BEGIN:VCALENDAR
VERSION:2.0
PRODID:-//Q4 Blog - ECPv6.15.18//NONSGML v1.0//EN
CALSCALE:GREGORIAN
METHOD:PUBLISH
X-WR-CALNAME:Q4 Blog
X-ORIGINAL-URL:https://q4blog.com
X-WR-CALDESC:Events for Q4 Blog
REFRESH-INTERVAL;VALUE=DURATION:PT1H
X-Robots-Tag:noindex
X-PUBLISHED-TTL:PT1H
BEGIN:VTIMEZONE
TZID:America/Toronto
BEGIN:DAYLIGHT
TZOFFSETFROM:-0500
TZOFFSETTO:-0400
TZNAME:EDT
DTSTART:20230312T070000
END:DAYLIGHT
BEGIN:STANDARD
TZOFFSETFROM:-0400
TZOFFSETTO:-0500
TZNAME:EST
DTSTART:20231105T060000
END:STANDARD
BEGIN:DAYLIGHT
TZOFFSETFROM:-0500
TZOFFSETTO:-0400
TZNAME:EDT
DTSTART:20240310T070000
END:DAYLIGHT
BEGIN:STANDARD
TZOFFSETFROM:-0400
TZOFFSETTO:-0500
TZNAME:EST
DTSTART:20241103T060000
END:STANDARD
BEGIN:DAYLIGHT
TZOFFSETFROM:-0500
TZOFFSETTO:-0400
TZNAME:EDT
DTSTART:20250309T070000
END:DAYLIGHT
BEGIN:STANDARD
TZOFFSETFROM:-0400
TZOFFSETTO:-0500
TZNAME:EST
DTSTART:20251102T060000
END:STANDARD
BEGIN:DAYLIGHT
TZOFFSETFROM:-0500
TZOFFSETTO:-0400
TZNAME:EDT
DTSTART:20260308T070000
END:DAYLIGHT
BEGIN:STANDARD
TZOFFSETFROM:-0400
TZOFFSETTO:-0500
TZNAME:EST
DTSTART:20261101T060000
END:STANDARD
END:VTIMEZONE
BEGIN:VEVENT
DTSTART;TZID=America/Toronto:20250225T110000
DTEND;TZID=America/Toronto:20250225T120000
DTSTAMP:20260421T074359
CREATED:20260219T145442Z
LAST-MODIFIED:20260303T174352Z
UID:10000131-1740481200-1740484800@q4blog.com
SUMMARY:Strengthening Trust & Security in AI for IR Teams
DESCRIPTION:As Investor Relations Officers (IROs) face increasing pressure to do more with less\, AI has emerged as a game-changing solution for streamlining workflows and delivering deeper insights. However\, security concerns around data privacy and compliance remain top-of-mind for IR teams. \nRegister Now
URL:https://q4blog.com/event/strengthening-trust-security-in-ai-for-ir-teams/
CATEGORIES:On-demand
ATTACH;FMTTYPE=image/jpeg:https://q4blog.com/wp-content/uploads/2025/01/Webinar-Strengthening-Trust-in-AI-Landing-Page-2048x1152-1.jpg
END:VEVENT
BEGIN:VEVENT
DTSTART;TZID=America/Toronto:20250122T110000
DTEND;TZID=America/Toronto:20250122T120000
DTSTAMP:20260421T074359
CREATED:20260219T144936Z
LAST-MODIFIED:20260312T203623Z
UID:10000130-1737543600-1737547200@q4blog.com
SUMMARY:Starting Strong: Essential IR Strategies and Tactics for 2025
DESCRIPTION:The world of IR is rapidly transforming\, driven by advancements in technology\, shifting investor demands\, and evolving regulations. Watch this exclusive webinar exploring the top trends shaping Investor Relations in 2025. From AI and automation to ESG transparency and retail investor engagement\, this session is packed with actionable strategies to help you stay ahead in a tech-driven market.
URL:https://q4blog.com/event/starting-strong-essential-ir-strategies-and-tactics-for-2025/
CATEGORIES:On-demand
ATTACH;FMTTYPE=image/jpeg:https://q4blog.com/wp-content/uploads/2025/01/starting-strong-essential-ir-str-1.jpg
END:VEVENT
BEGIN:VEVENT
DTSTART;TZID=America/Toronto:20241105T160000
DTEND;TZID=America/Toronto:20241105T170000
DTSTAMP:20260421T074359
CREATED:20260218T195914Z
LAST-MODIFIED:20260303T174048Z
UID:10000129-1730822400-1730826000@q4blog.com
SUMMARY:Innovate Your IR Strategy: Harnessing Technology and AI for Exceptional Investor Relations
DESCRIPTION:Join us together with our gold partner Q4 for an insightful webinar focused on optimising your IR strategies through the right tools. In this session\, industry experts will explore the latest digital platforms and technologies that empower IROs to enhance communication\, streamline processes\, and drive better engagement with investors. \n\nBy joining this webinar\, you will learn: \n\nBest practices for integrating technology and automation into your IR strategy to improve decision-making.\nHow to effectively leverage AI to stay ahead of the industry curve and anticipate investor needs.\nApproaches to streamlining IR workflows by automating routine tasks\, freeing up time for strategic activities and improving overall efficiency.\nDon’t miss this opportunity to transform your IR approach with the right tools and expert guidance!
URL:https://q4blog.com/event/innovate-your-ir-strategy-harnessing-technology-and-ai-for-exceptional-investor-relations/
CATEGORIES:On-demand
END:VEVENT
BEGIN:VEVENT
DTSTART;TZID=America/Toronto:20240412T110000
DTEND;TZID=America/Toronto:20240412T120000
DTSTAMP:20260421T074359
CREATED:20260218T195502Z
LAST-MODIFIED:20260303T173500Z
UID:10000128-1712919600-1712923200@q4blog.com
SUMMARY:What’s Brewing? Upping your IR Communications
DESCRIPTION:Is it time to take your IR communications to the next level?  What are some efficient and effective ways to use your website\, video and social media to reach your investor audiences?  Join us for a discussion that explores ways to harness these mediums for maximum impact while being sensitive to your budget.  \n\nRegister Now
URL:https://q4blog.com/event/whats-brewing-upping-your-ir-communications/
CATEGORIES:On-demand
ATTACH;FMTTYPE=image/png:https://q4blog.com/wp-content/uploads/2024/04/Brewing_EmailBanner_1200x600.png
END:VEVENT
BEGIN:VEVENT
DTSTART;TZID=America/Toronto:20240411T120000
DTEND;TZID=America/Toronto:20240411T133000
DTSTAMP:20260421T074359
CREATED:20260218T194652Z
LAST-MODIFIED:20260303T173456Z
UID:10000127-1712836800-1712842200@q4blog.com
SUMMARY:Hot Topic Symposium: AI-Powered Investor Relations
DESCRIPTION:During this session we will touch on the definition of AI learning\, as well as explore what applications are available today and how they can be used by IRO’s to improve efficiencies in your everyday tasks. We will discuss how to get started with AI and what potential risks could arise to ensure you put the appropriate safeguards in place.
URL:https://q4blog.com/event/hot-topic-symposium-ai-powered-investor-relations/
CATEGORIES:On-demand
ATTACH;FMTTYPE=image/png:https://q4blog.com/wp-content/uploads/2024/04/Hot-Topic-Symposium_EmailBanner_1200x600.png
END:VEVENT
BEGIN:VEVENT
DTSTART;TZID=America/Toronto:20240327T110000
DTEND;TZID=America/Toronto:20240327T120000
DTSTAMP:20260421T074359
CREATED:20260218T194219Z
LAST-MODIFIED:20260303T173452Z
UID:10000126-1711537200-1711540800@q4blog.com
SUMMARY:Future of IR
DESCRIPTION:
URL:https://q4blog.com/event/future-of-ir/
CATEGORIES:On-demand
ATTACH;FMTTYPE=image/png:https://q4blog.com/wp-content/uploads/2026/02/Webinar_FutureIR_EmailBanner_1200x600.png
END:VEVENT
BEGIN:VEVENT
DTSTART;TZID=America/Toronto:20240308T090000
DTEND;TZID=America/Toronto:20240308T110000
DTSTAMP:20260421T074359
CREATED:20260218T193942Z
LAST-MODIFIED:20260303T173448Z
UID:10000125-1709888400-1709895600@q4blog.com
SUMMARY:Investor Targeting Roundtable
DESCRIPTION:Friday the 8th of March\, Aspekta and Q4 Inc. invites you to an Investor Targeting-themed breakfast where you will gain valuable insights\, inputs\, and networking. Participate in discussions on current IR topics that can help you in your daily work as an IR professional. Some of the topics that will be covered are best practices and main challenges concerning investor targeting as well as how to best work with ESG strategy in your communication to investors. \n\nThe event is organized by Aspekta & Q4 Inc. and is limited to a carefully selected audience of IR professionals. The event will be held in inspiring surroundings with a panoramic view of Malmö harbor at Sydsvenska Industri- och Handelskammarens office where breakfast will be served. We hope to see you for an interesting and inspiring morning in the company of your IR peers!
URL:https://q4blog.com/event/investor-targeting-roundtable/
CATEGORIES:On-demand
ATTACH;FMTTYPE=image/png:https://q4blog.com/wp-content/uploads/2024/04/EU_Roundtable_Aspekta_EmailBanner_1200x600.png
END:VEVENT
BEGIN:VEVENT
DTSTART;TZID=America/Toronto:20240228T110000
DTEND;TZID=America/Toronto:20240228T120000
DTSTAMP:20260421T074359
CREATED:20260213T161957Z
LAST-MODIFIED:20260303T173445Z
UID:10000096-1709118000-1709121600@q4blog.com
SUMMARY:Managing change as an investor relations professional
DESCRIPTION:Join our webinar with IR Magazine as we dive into the changes investor relation professionals are experiencing. In periods of uncertainty and ambiguity\, IR can showcase its value and this webinar will demonstrate ways IR teams can adapt to change and maintain credibility with their stakeholders.
URL:https://q4blog.com/event/managing-change-as-an-investor-relations-professional/
CATEGORIES:On-demand
ATTACH;FMTTYPE=image/png:https://q4blog.com/wp-content/uploads/2024/02/Webinar_IR_Mag_EmailBanner_1200x600.png
END:VEVENT
END:VCALENDAR