BEGIN:VCALENDAR
VERSION:2.0
PRODID:-//Q4 Blog - ECPv6.15.18//NONSGML v1.0//EN
CALSCALE:GREGORIAN
METHOD:PUBLISH
X-ORIGINAL-URL:https://q4blog.com
X-WR-CALDESC:Events for Q4 Blog
REFRESH-INTERVAL;VALUE=DURATION:PT1H
X-Robots-Tag:noindex
X-PUBLISHED-TTL:PT1H
BEGIN:VTIMEZONE
TZID:America/Toronto
BEGIN:DAYLIGHT
TZOFFSETFROM:-0500
TZOFFSETTO:-0400
TZNAME:EDT
DTSTART:20250309T070000
END:DAYLIGHT
BEGIN:STANDARD
TZOFFSETFROM:-0400
TZOFFSETTO:-0500
TZNAME:EST
DTSTART:20251102T060000
END:STANDARD
BEGIN:DAYLIGHT
TZOFFSETFROM:-0500
TZOFFSETTO:-0400
TZNAME:EDT
DTSTART:20260308T070000
END:DAYLIGHT
BEGIN:STANDARD
TZOFFSETFROM:-0400
TZOFFSETTO:-0500
TZNAME:EST
DTSTART:20261101T060000
END:STANDARD
BEGIN:DAYLIGHT
TZOFFSETFROM:-0500
TZOFFSETTO:-0400
TZNAME:EDT
DTSTART:20270314T070000
END:DAYLIGHT
BEGIN:STANDARD
TZOFFSETFROM:-0400
TZOFFSETTO:-0500
TZNAME:EST
DTSTART:20271107T060000
END:STANDARD
END:VTIMEZONE
BEGIN:VTIMEZONE
TZID:Asia/Jerusalem
BEGIN:DAYLIGHT
TZOFFSETFROM:+0200
TZOFFSETTO:+0300
TZNAME:IDT
DTSTART:20250328T000000
END:DAYLIGHT
BEGIN:STANDARD
TZOFFSETFROM:+0300
TZOFFSETTO:+0200
TZNAME:IST
DTSTART:20251025T230000
END:STANDARD
BEGIN:DAYLIGHT
TZOFFSETFROM:+0200
TZOFFSETTO:+0300
TZNAME:IDT
DTSTART:20260327T000000
END:DAYLIGHT
BEGIN:STANDARD
TZOFFSETFROM:+0300
TZOFFSETTO:+0200
TZNAME:IST
DTSTART:20261024T230000
END:STANDARD
BEGIN:DAYLIGHT
TZOFFSETFROM:+0200
TZOFFSETTO:+0300
TZNAME:IDT
DTSTART:20270326T000000
END:DAYLIGHT
BEGIN:STANDARD
TZOFFSETFROM:+0300
TZOFFSETTO:+0200
TZNAME:IST
DTSTART:20271030T230000
END:STANDARD
END:VTIMEZONE
BEGIN:VTIMEZONE
TZID:Europe/Paris
BEGIN:DAYLIGHT
TZOFFSETFROM:+0100
TZOFFSETTO:+0200
TZNAME:CEST
DTSTART:20250330T010000
END:DAYLIGHT
BEGIN:STANDARD
TZOFFSETFROM:+0200
TZOFFSETTO:+0100
TZNAME:CET
DTSTART:20251026T010000
END:STANDARD
BEGIN:DAYLIGHT
TZOFFSETFROM:+0100
TZOFFSETTO:+0200
TZNAME:CEST
DTSTART:20260329T010000
END:DAYLIGHT
BEGIN:STANDARD
TZOFFSETFROM:+0200
TZOFFSETTO:+0100
TZNAME:CET
DTSTART:20261025T010000
END:STANDARD
BEGIN:DAYLIGHT
TZOFFSETFROM:+0100
TZOFFSETTO:+0200
TZNAME:CEST
DTSTART:20270328T010000
END:DAYLIGHT
BEGIN:STANDARD
TZOFFSETFROM:+0200
TZOFFSETTO:+0100
TZNAME:CET
DTSTART:20271031T010000
END:STANDARD
END:VTIMEZONE
BEGIN:VEVENT
DTSTART;TZID=America/Toronto:20260312T123000
DTEND;TZID=America/Toronto:20260312T140000
DTSTAMP:20260421T074408
CREATED:20260220T195627Z
LAST-MODIFIED:20260310T185643Z
UID:10000137-1773318600-1773324000@q4blog.com
SUMMARY:Soirée De La Femme | International Women’s Day Lunch in Toronto
DESCRIPTION:An Afternoon of French Elegance and Empowered Connection. Join us for an intimate afternoon celebrating International Women’s Day. Inspired by the tradition of a Parisian salon\, Soirée de la Femme will bring women leaders across the IR community together for an evening of idea exchanges and connection.\n \n\n\n\n\n\n\n    \n    \n         \n\n    \n\n\n    \n        Soirée de la Femme \n        An Afternoon of French Elegance and Empowered Connection \n        Join us for an intimate afternoon celebrating International Women’s Day  \n        Inspired by the tradition of a Parisian salon\, Soirée de la Femme will bring women leaders across the IR community together for an evening of idea exchanges and connection. \n\n        Event Details\n        Date: March 12\n        Time: 12:30 to 2:00 PM \n        Location: \n        Stratus Restaurant\n        TD South Tower\n        79 Wellington St W tower 36th floor\n        Toronto\, ON M5K 1J5 \n        What to Expect: \n        \n            A curated afternoon designed to inspire connection\n            L’Apéro: A cocktail reception to spark conversation\n            Le Festin: A refined multi-course French lunch featuring seasonal flavors\n            Le Salon: Shared stories and thoughtful dialogue centered on progress and empowerment\n            Pour l’élégance\, pour l’ambition\, pour nous.\n        \n		 Attendance is complimentary. Advance registration requested.
URL:https://q4blog.com/event/soiree-de-la-femme-international-womens-day-lunch-in-toronto/
ATTACH;FMTTYPE=image/png:https://q4blog.com/wp-content/uploads/2026/02/IWD_Dinner_v2_1200x600.png
END:VEVENT
BEGIN:VEVENT
DTSTART;TZID=America/Toronto:20260318T180000
DTEND;TZID=America/Toronto:20260318T203000
DTSTAMP:20260421T074408
CREATED:20260205T182951Z
LAST-MODIFIED:20260310T185745Z
UID:10000088-1773856800-1773865800@q4blog.com
SUMMARY:Soirée De La Femme | International Women’s Day Dinner In Palo Alto
DESCRIPTION:Join us for an intimate evening celebrating International Women’s Day the night before IR Impact West Coast Think Tank.Inspired by the tradition of a Parisian salon\, Soirée de la Femme will bring women leaders across the IR community together for an evening of idea exchanges and connection. \n\n\n\n\n\n\n    \n    \n        \n\n    \n\n\n    \n        Soirée de la Femme \n        An Evening of French Elegance and Empowered Connection \n\n        Join us for an intimate evening celebrating International Women’s Day the night before IR Impact West Coast Think Tank. \n\n        Inspired by the tradition of a Parisian salon\, Soirée de la Femme will bring women leaders across the IR community together for an evening of idea exchanges and connection. \n\n        Event Details\n        Date: March 18\n        Time: 6:00 to 8:30 PM \n        Location: \n        Bar Zola\n        The Private Gallery\n        585 Bryant St\, Palo Alto\, CA \n        What to Expect: \n        \n            A curated evening designed to inspire connection\n            L’Apéro: A cocktail reception to spark conversation\n            Le Festin: A refined multi-course French dinner featuring seasonal flavors\n            Le Salon: Shared stories and thoughtful dialogue centered on progress and empowerment\n            Pour l’élégance\, pour l’ambition\, pour nous.\n        \n		Attendance is complimentary. Advance registration requested.
URL:https://q4blog.com/event/soiree-de-la-femme-international-womens-day-dinner-in-palo-alto/
ATTACH;FMTTYPE=image/png:https://q4blog.com/wp-content/uploads/2026/02/IWD_Dinner_v2_1200x600.png
END:VEVENT
BEGIN:VEVENT
DTSTART;TZID=Asia/Jerusalem:20260325T160000
DTEND;TZID=Asia/Jerusalem:20260325T170000
DTSTAMP:20260421T074408
CREATED:20260219T160251Z
LAST-MODIFIED:20260327T131506Z
UID:10000135-1774454400-1774458000@q4blog.com
SUMMARY:AI\, Insight\, and the Expanding Role of Investor Relations in 2026
DESCRIPTION:The way companies engage with investors is evolving into a complex\, high-stakes balancing act. Across Israel’s capital markets\, professionals working at the intersection of strategy\, finance\, and investor engagement are facing growing expectations for transparency\, sharper messaging\, and more proactive dialogue\, often with leaner teams and increasing market volatility.  \nON DEMAND – WEDNESDAY\, MARCH 25\, 2026 \n\n\n\n\n\n\n    \n    \n        \n    \n    \n\n\n    \n        \n        The way companies engage with investors is evolving into a complex\, high-stakes balancing act. Across Israel’s capital markets\, professionals working at the intersection of strategy\, finance\, and investor engagement are facing growing expectations for transparency\, sharper messaging\, and more proactive dialogue\, often with leaner teams and increasing market volatility. \n\n        As this responsibility expands beyond traditional IR roles\, the focus shifts toward gaining the bandwidth and intelligence needed to move from reactive reporting to strategic\, long-term value creation. \n\n        In collaboration with the IIRF\, Q4 invites you to a forward-looking session on the future of capital markets intelligence. We’ll explore how agentic AI-driven workflows are transforming investor engagement turning fragmented\, manual processes into an integrated intelligence engine. Moving beyond the initial excitement around generative AI\, the discussion will focus on real-world applications of agentic AI in earnings preparation\, investor targeting\, sentiment analysis\, and activism monitoring. \n        Discussion Highlights: \n        \n            The Intelligence Evolution: Moving from basic automation to agentic AI that anticipates market shifts and investor sentiment.\n            Optimizing the Earnings Lifecycle: Transitioning from information gathering to producing high-fidelity materials across every touchpoint of the quarterly narrative.\n            Strategic Resilience: Leveraging the Q4 ecosystem to maintain a robust digital presence and reliable event infrastructure in a volatile global market.\n            Local Expertise\, Global Reach: How the partnership between Q4 and IIRF provides Israeli firms with world-class technology tailored to regional needs.\n        \n        \n        Who should watch:Investor Relations professionals\, CFOs\, finance leaders\, and senior executives involved in shaping or managing the company’s relationship with investors in public or pre-IPO companies across Israel.
URL:https://q4blog.com/event/ai-insight-and-the-expanding-role-of-investor-relations-in-2026/
CATEGORIES:On-demand
ATTACH;FMTTYPE=image/png:https://q4blog.com/wp-content/uploads/2026/02/Israeli-Investor-Relations-Forum-Email-Upcoming-Events-1200x800-1.png
END:VEVENT
BEGIN:VEVENT
DTSTART;TZID=America/Toronto:20260430T110000
DTEND;TZID=America/Toronto:20260430T120000
DTSTAMP:20260421T074408
CREATED:20260213T213740Z
LAST-MODIFIED:20260415T132211Z
UID:10000106-1777546800-1777550400@q4blog.com
SUMMARY:Confessions of an IRO
DESCRIPTION:A candid look at what happens when the pressure builds \nLIVE STREAM – THURSDAY\, APRIL 30th\, 2026 | 8:00 AM PDT | 11:00 AM EDT | 4:00 PM BST \n\n\n\n\n\n\n\n \n\n\n\n\n\n    \n        \n    \n\n    \n        \n            \n            \n        \n    \n\n\n\n\n    \nA candid look at what happens when the pressure builds. \nEarnings calls may sound carefully orchestrated\, but the defining leadership moments usually happen in conversations you never see. \nJoin us for a virtual event with experienced IR leaders ready to talk about the tough quarters and the uncomfortable board conversations. \nConfessions of an IRO pulls back the polished corporate veneer to reveal the raw\, high-stakes reality of financial leadership\, featuring a panel of seasoned experts sharing the “scar tissue” lessons you won’t find in a blog or on LinkedIn. \nDive into what actually happens when expectations are too high and visibility is limited. You’ll hear how credibility is managed in real-time and what changes afterward. \n\nWhat you will gain: \nYou’ll walk away with insight you can apply to your next reporting cycle\, especially if you are preparing for heightened scrutiny or activist pressure \n\nQuestions that will be answered:\nHow do IROs manage activist pressure?\nWhat should Investor Relations do during a crisis?\nHow can IR teams prepare for board scrutiny? \nEveryone who attends will receive the Crisis to Credibility Playbook\, a practical resource built from the lessons shared during the session. \n\nWe recognize the live timing may be challenging for some. Please register to receive the on-demand recording. \n\n\n\n    \n    \n        \n        Jamie Stanton\n        Senior Director\, Investor Relations\, Q4 Inc.\n    \n\n    \n        \n        Christine Cloonan\n        Investor Relations Manager\, PagerDuty\n    \n\n    \n        \n        Corey Kinger\n        Former VP of Investor Relations\, WW / WeightWatchers\n    \n\n    \n        \n        Irina Zhurba\n        Former Director Investor Relations\, Mister Spex\, Germany
URL:https://q4blog.com/event/confessions-of-an-iro/
CATEGORIES:Webinar
ATTACH;FMTTYPE=image/png:https://q4blog.com/wp-content/uploads/2026/03/Confessions-of-an-IRO-Events-Page-Youtube-Cover.png
END:VEVENT
BEGIN:VEVENT
DTSTART;TZID=Europe/Paris:20260519T130000
DTEND;TZID=Europe/Paris:20260519T140000
DTSTAMP:20260421T074408
CREATED:20260303T140343Z
LAST-MODIFIED:20260413T165402Z
UID:10000139-1779195600-1779199200@q4blog.com
SUMMARY:From Pressure to Performance: The Future of IR in Switzerland
DESCRIPTION:Swiss IR teams are being squeezed: institutional investors want deeper intelligence\, but budgets aren’t growing to match. Q4 is partnering with IR Club Swiss to show you how to flip the script\, so you can turn pressure into agentic AI-powered performance.   \nTuesday\, May 19th\, 2026 – 1:00 PM BST | 2:00 PM CEST \n\n\n\n\n\n\n    \n    \n        \n        \n    \n\n\n    \nSwiss IR teams are being squeezed: institutional investors want deeper intelligence\, but budgets aren’t growing to match. \n \n\nQ4 is partnering with IR Club Swiss to show you how to flip the script\, so you can turn pressure into agentic AI-powered performance. \n\nWe’ll explore how to evolve the IR function into a high-output strategy centre by using AI agents to take on the heavy lifting\, without compromising governance\, security\, or regulatory discipline. You’ll get real-world metrics that show why consolidating fragmented systems is now essential for strategic\, high-impact IR.  \n\nYou’ll get a credible\, metrics-driven ROI story you can confidently take to leadership.  \n\n\n\nWhat you’ll takeaway: \n\n    The AI Balance: Where agents reduce workload safely and where firm guardrails protect compliance and trust.\n    Do more with less: How consolidating fragmented tools cuts friction and helps teams save 1\,100+ hours a year.\n    Strategic Evolution: Shift from manual reporting to delivering high-level market intelligence that influences corporate strategy.\n    Maximizing ROI: What the data shows about the financial impact of a unified IR tech stack and how to build a board-ready business-case for IR tech.\n\n\nRegister Now
URL:https://q4blog.com/event/from-pressure-to-performance-the-future-of-ir-in-switzerland/
ATTACH;FMTTYPE=image/png:https://q4blog.com/wp-content/uploads/2026/03/IR-Club-Swiss-Webinar-Landing-Page-1600x1150-1.png
END:VEVENT
END:VCALENDAR